BEGIN:VCALENDAR
VERSION:2.0
PRODID:-//Big Blue BBQ - ECPv6.15.11//NONSGML v1.0//EN
CALSCALE:GREGORIAN
METHOD:PUBLISH
X-WR-CALNAME:Big Blue BBQ
X-ORIGINAL-URL:https://bigbluebbq.com
X-WR-CALDESC:Events for Big Blue BBQ
REFRESH-INTERVAL;VALUE=DURATION:PT1H
X-Robots-Tag:noindex
X-PUBLISHED-TTL:PT1H
BEGIN:VTIMEZONE
TZID:America/New_York
BEGIN:DAYLIGHT
TZOFFSETFROM:-0500
TZOFFSETTO:-0400
TZNAME:EDT
DTSTART:20250309T070000
END:DAYLIGHT
BEGIN:STANDARD
TZOFFSETFROM:-0400
TZOFFSETTO:-0500
TZNAME:EST
DTSTART:20251102T060000
END:STANDARD
BEGIN:DAYLIGHT
TZOFFSETFROM:-0500
TZOFFSETTO:-0400
TZNAME:EDT
DTSTART:20260308T070000
END:DAYLIGHT
BEGIN:STANDARD
TZOFFSETFROM:-0400
TZOFFSETTO:-0500
TZNAME:EST
DTSTART:20261101T060000
END:STANDARD
BEGIN:DAYLIGHT
TZOFFSETFROM:-0500
TZOFFSETTO:-0400
TZNAME:EDT
DTSTART:20270314T070000
END:DAYLIGHT
BEGIN:STANDARD
TZOFFSETFROM:-0400
TZOFFSETTO:-0500
TZNAME:EST
DTSTART:20271107T060000
END:STANDARD
END:VTIMEZONE
BEGIN:VEVENT
DTSTART;TZID=America/New_York:20261129T163000
DTEND;TZID=America/New_York:20261129T201500
DTSTAMP:20260421T214005
CREATED:20241216T010941Z
LAST-MODIFIED:20260106T115552Z
UID:5967-1795969800-1795983300@bigbluebbq.com
SUMMARY:New York Giants vs Philadelphia Eagles
DESCRIPTION:PLEASE READ CAREFULLY!!!!!                                                                                                      DUE TO METLIFE STADIUM RECENT POLICY & ENFORCEMENT\nPLEASE PROVIDE YOUR OWN ALCOHOL & WE WILL PROVIDE EVERYTHING ELSE SAME GREAT PARTY YOU HAVE COME TO KNOW AND LOVE                              THANKS FOR YOUR SUPPORT\nTailgate Tickets are NON-REFUNDABLE and Presently BigBlueBBQ does not offer Discounts \nTAILGATE PARTY!!\nWHAT IS INCLUDED WITH YOUR DONATION:\nParty passes include all the food and beverage you care to have\, and we always have more than enough!\nThe party is 4 hours\nLive entertainment by MagicTouch DJs\nTailgate Passes do not include parking or game entry\nCome early & watch our 70″ TV! \nMENU- subject to change \n\nAssorted Vegetable Ratatouille\nSausage\, Peppers & Onions Marinara\nPulled Barbecue Beef\nSpicy Cranberry Barbecue Meatballs\nTortellini Pesto Alfredo\nBNLS BBQ Riblets\nChicken Cacciatore- highly seasoned pepper\, onions\, mushrooms\, simmered in a  tomato marinara
URL:https://bigbluebbq.com/event/new-york-giants-vs-philadelphia-eagles/
LOCATION:Metlife Stadium\, Parking Lot J-22\, East Rutherford\, NJ\, 07073\, United States
CATEGORIES:Tailgate Party
ATTACH;FMTTYPE=image/jpeg:https://bigbluebbq.com/wp-content/uploads/2024/03/philadelphia_eagles_by_graffitimaster_d1qncgy-1-3.jpg
END:VEVENT
BEGIN:VEVENT
DTSTART;TZID=America/New_York:20261213T163000
DTEND;TZID=America/New_York:20261213T203000
DTSTAMP:20260421T214005
CREATED:20250209T224759Z
LAST-MODIFIED:20260106T143416Z
UID:6105-1797179400-1797193800@bigbluebbq.com
SUMMARY:New York Giants vs New Orleans Saints
DESCRIPTION:Tailgate Tickets are NON-REFUNDABLE and Presently BigBlueBBQ does not offer Discounts\nPLEASE READ CAREFULLY!!!! DUE TO METLIFE RECENT POLICY & ENFORCEMENT PLEASE BRING YOUR OWN ALCOHOL WE WILL PROVIDE EVERYTHING ELSE\nTAILGATE PARTY!!\nWHAT IS INCLUDED WITH YOUR DONATION:\nParty passes include all the food and beverage you care to have\, and we always have more than enough!\nThe party is 4 hours\nLive entertainment by MagicTouch DJs\nTailgate Passes do not include parking or game entry\nCome early & watch our 70″ TV! \nMENU-subject to change \n\nAssorted Vegetable Ratatouille\nSausage & Peppers\, Onions Marinara\nBaked Ziti w/marinara sauce\nJapanese Barbecue Pulled Pork\nMeatballs Marinara\nChipotle Lime Barbecue Ribs\nBarbecued Chicken\n\n 
URL:https://bigbluebbq.com/event/new-york-giants-vs-new-orleans-saints-2/
LOCATION:NJ
CATEGORIES:Tailgate Party
ATTACH;FMTTYPE=image/jpeg:https://bigbluebbq.com/wp-content/uploads/2025/02/New-Orleans-Saints-symbol-scaled.jpg
END:VEVENT
END:VCALENDAR