BEGIN:VCALENDAR
VERSION:2.0
PRODID:-//Big Blue BBQ - ECPv6.15.11//NONSGML v1.0//EN
CALSCALE:GREGORIAN
METHOD:PUBLISH
X-WR-CALNAME:Big Blue BBQ
X-ORIGINAL-URL:https://bigbluebbq.com
X-WR-CALDESC:Events for Big Blue BBQ
REFRESH-INTERVAL;VALUE=DURATION:PT1H
X-Robots-Tag:noindex
X-PUBLISHED-TTL:PT1H
BEGIN:VTIMEZONE
TZID:America/New_York
BEGIN:DAYLIGHT
TZOFFSETFROM:-0500
TZOFFSETTO:-0400
TZNAME:EDT
DTSTART:20250309T070000
END:DAYLIGHT
BEGIN:STANDARD
TZOFFSETFROM:-0400
TZOFFSETTO:-0500
TZNAME:EST
DTSTART:20251102T060000
END:STANDARD
BEGIN:DAYLIGHT
TZOFFSETFROM:-0500
TZOFFSETTO:-0400
TZNAME:EDT
DTSTART:20260308T070000
END:DAYLIGHT
BEGIN:STANDARD
TZOFFSETFROM:-0400
TZOFFSETTO:-0500
TZNAME:EST
DTSTART:20261101T060000
END:STANDARD
BEGIN:DAYLIGHT
TZOFFSETFROM:-0500
TZOFFSETTO:-0400
TZNAME:EDT
DTSTART:20270314T070000
END:DAYLIGHT
BEGIN:STANDARD
TZOFFSETFROM:-0400
TZOFFSETTO:-0500
TZNAME:EST
DTSTART:20271107T060000
END:STANDARD
END:VTIMEZONE
BEGIN:VEVENT
DTSTART;TZID=America/New_York:20261004T090000
DTEND;TZID=America/New_York:20261004T130000
DTSTAMP:20260421T221105
CREATED:20241216T160524Z
LAST-MODIFIED:20260106T120603Z
UID:5988-1791104400-1791118800@bigbluebbq.com
SUMMARY:New York Giants vs Tennessee Titans
DESCRIPTION:Tailgate Tickets are NON-REFUNDABLE & Presently BigBlueBBQ                                                                   does not offer Discounts\nPLEASE READ CAREFULLY!!!                                                                                           DUE TO RECENT CHANGES IN METLIFE POLICY & ENFORCEMENT.    PLEASE BRING YOUR OWN ALCOHOL                                                           BIGBLUEBBQ WILL PROVIDE EVERYTHING ELSE YOU HAVE COME TO LOVE & EXPECT!!                                                                                                                GOOD FOOD\, GOOD FRIENDS\, GOOD TIMES!!                                                THANKS FOR YOUR LOVE & SUPPORT\n\nTAILGATE PARTY!!\nWHAT IS INCLUDED WITH YOUR DONATION:\nParty passes include all the food and beverage you care to have\, and we always have more than enough!\nThe party is 4 hours\nLive entertainment by MagicTouch DJs\nTailgate Passes do not include parking or game entry\nCome early & watch our 70″ TV! \nMENU-subject to change \n\nAssorted Vegetable Ratatouille\nSausage & Peppers\, Onions Marinara\nPineapple Habanero BBQ Meatballs\nTeriyaki Pulled Chicken\nGarlic Parmesan Rigatoni\nPecan Smoked Pecan Pork Riblets\nChicken Vinaigrette- Highly seasoned poached chicken breasts brushed with garlic\, basil\, oregano\, salt\, pepper with  onions vinegar\n\n  \n  \n  \n  \n  \n 
URL:https://bigbluebbq.com/event/new-york-giants-vs-tennessee-titans-3/
LOCATION:Metlife Stadium\, Parking Lot J-22\, East Rutherford\, NJ\, 07073\, United States
CATEGORIES:Tailgate Party
ATTACH;FMTTYPE=image/png:https://bigbluebbq.com/wp-content/uploads/2024/12/Tennessee-Titans-Logo-scaled.png
END:VEVENT
BEGIN:VEVENT
DTSTART;TZID=America/New_York:20260906T150000
DTEND;TZID=America/New_York:20260906T190000
DTSTAMP:20260421T221105
CREATED:20241216T153152Z
LAST-MODIFIED:20260106T144114Z
UID:5980-1788706800-1788721200@bigbluebbq.com
SUMMARY:New York Giants vs Cleveland Browns
DESCRIPTION:Tailgate Tickets are NON-REFUNDABLE and Presently BigBlueBBQ does not offer Discounts\nTAILGATE PARTY!!\nWHAT IS INCLUDED WITH YOUR DONATION:\nParty passes include all the food and beverage you care to have\, and we always have more than enough!\nThe party is 4 hours\nTailgate Passes do not include parking or game entry \nPole J22 \nMENU: Pre- Season August 16th 2025 \n\nHamburgers\, Hot Dogs\, Vegetable burgers\nCheddar Cheese Macaroni and Cheese\nBigBlueBBQ “BEST EVER” Baked Beans\n Meatballs Marinara\nSpicy Pulled Cranberry Chicken\nBarbecue Chicken\nSausage & Peppers Marinara\n\n  \n 
URL:https://bigbluebbq.com/event/new-york-giants-vs-cleveland-browns-2/
LOCATION:Metlife Stadium\, Parking Lot J-22\, East Rutherford\, NJ\, 07073\, United States
CATEGORIES:Tailgate Party
ATTACH;FMTTYPE=image/webp:https://bigbluebbq.com/wp-content/uploads/2024/12/dg4OLf.webp
END:VEVENT
BEGIN:VEVENT
DTSTART;TZID=America/New_York:20260822T160000
DTEND;TZID=America/New_York:20260822T200000
DTSTAMP:20260421T221105
CREATED:20250210T185456Z
LAST-MODIFIED:20260106T121202Z
UID:6119-1787414400-1787428800@bigbluebbq.com
SUMMARY:New York Giants vs                     PRE-SEASON
DESCRIPTION:Tailgate Tickets are NON-REFUNDABLE and Presently BigBlueBBQ does not offer Discounts\nTAILGATE PARTY!!\nWHAT IS INCLUDED WITH YOUR DONATION:\nParty passes include all the food and beverage you care to have\, and we always have more than enough!\nThe party is 4 hours\nTailgate Passes do not include parking or game entry \nPole J22 \nMENU: Pre- Season August  2026 \n\nHamburgers\, Hot Dogs\, Vegetable burgers\nCheddar Cheese Macaroni and Cheese\nBigBlueBBQ “BEST EVER” Baked Beans\n Fire Cracker BBQ Glazed Meatballs\nSpicy Pulled Cranberry Chicken\nBarbecue Chicken\nSausage & Peppers Marinara\n\n  \n 
URL:https://bigbluebbq.com/event/new-york-giants-vs-new-england-patriots-pre-season/
LOCATION:Metlife Stadium\, Parking Lot J-22\, East Rutherford\, NJ\, 07073\, United States
CATEGORIES:Tailgate Party
ATTACH;FMTTYPE=image/jpeg:https://bigbluebbq.com/wp-content/uploads/2025/02/new-england-patriots-logo-close-up-0m3uz72utjhzvs3s.jpg
END:VEVENT
BEGIN:VEVENT
DTSTART;TZID=America/New_York:20260104T090000
DTEND;TZID=America/New_York:20260104T130000
DTSTAMP:20260421T221105
CREATED:20241216T154324Z
LAST-MODIFIED:20260106T121757Z
UID:5972-1767517200-1767531600@bigbluebbq.com
SUMMARY:New York Giants vs Dallas Cowboys
DESCRIPTION:Tailgate Tickets are NON-REFUNDABLE and Presently BigBlueBBQ does not offer Discounts\nTAILGATE PARTY!!\nWHAT IS INCLUDED WITH YOUR DONATION:\nParty passes include all the food and beverage you care to have\, and we always have more than enough!\nThe party is 4 hours\nLive entertainment by MagicTouch DJs\nTailgate Passes do not include parking or game entry\nCome early & watch our 70″ TV! \nMENU-subject to change \n\nAssorted Vegetable Ratatouille\nSausage & Peppers\, Onions Marinara\nTortellini with Pesto Sauce\nPulled Honey Glazed Barbecue Pork\nSweet & Sour Meatballs\nTeriyaki glazed Barbecue riblets\nSausage & Chicken Jambalaya\n\n 
URL:https://bigbluebbq.com/event/new-york-giants-vs-dallas-cowboys/
LOCATION:NJ
CATEGORIES:Tailgate Party
ATTACH;FMTTYPE=image/jpeg:https://bigbluebbq.com/wp-content/uploads/2024/12/th-2.jpg
END:VEVENT
END:VCALENDAR