BEGIN:VCALENDAR
VERSION:2.0
PRODID:-//Big Blue BBQ - ECPv6.15.11//NONSGML v1.0//EN
CALSCALE:GREGORIAN
METHOD:PUBLISH
X-ORIGINAL-URL:https://bigbluebbq.com
X-WR-CALDESC:Events for Big Blue BBQ
REFRESH-INTERVAL;VALUE=DURATION:PT1H
X-Robots-Tag:noindex
X-PUBLISHED-TTL:PT1H
BEGIN:VTIMEZONE
TZID:America/New_York
BEGIN:DAYLIGHT
TZOFFSETFROM:-0500
TZOFFSETTO:-0400
TZNAME:EDT
DTSTART:20250309T070000
END:DAYLIGHT
BEGIN:STANDARD
TZOFFSETFROM:-0400
TZOFFSETTO:-0500
TZNAME:EST
DTSTART:20251102T060000
END:STANDARD
BEGIN:DAYLIGHT
TZOFFSETFROM:-0500
TZOFFSETTO:-0400
TZNAME:EDT
DTSTART:20260308T070000
END:DAYLIGHT
BEGIN:STANDARD
TZOFFSETFROM:-0400
TZOFFSETTO:-0500
TZNAME:EST
DTSTART:20261101T060000
END:STANDARD
BEGIN:DAYLIGHT
TZOFFSETFROM:-0500
TZOFFSETTO:-0400
TZNAME:EDT
DTSTART:20270314T070000
END:DAYLIGHT
BEGIN:STANDARD
TZOFFSETFROM:-0400
TZOFFSETTO:-0500
TZNAME:EST
DTSTART:20271107T060000
END:STANDARD
END:VTIMEZONE
BEGIN:VEVENT
DTSTART;TZID=America/New_York:20261115T090000
DTEND;TZID=America/New_York:20261115T130000
DTSTAMP:20260421T224126
CREATED:20250111T005626Z
LAST-MODIFIED:20260106T115843Z
UID:6088-1794733200-1794747600@bigbluebbq.com
SUMMARY:New York Giants vs San Francisco 49er's
DESCRIPTION:Tailgate Tickets are NON-REFUNDABLE and Presently BigBlueBBQ does not offer Discounts\nPLEASE READ CAREFULLY!!!!                                                                                                      DUE TO METLIFE RECENT POLICY & ENFORCEMENT                                                              PLEASE PROVIDE YOUR OWN ALCOHOL!                                                                                        WE WILL SUPPLY EVERYTHING ELSE YOU HAVE COME TO LOVE & EXPECT THANKS FOR YOUR LOVE AND SUPPORT\nTAILGATE PARTY!!\nWHAT IS INCLUDED WITH YOUR DONATION:\nParty passes include all the food and beverage you care to have\, and we always have more than enough!\nThe party is 4 hours\nLive entertainment by MagicTouch DJs\nTailgate Passes do not include parking or game entry\nCome early & watch our 70″ TV! \nMENU-subject to change \n\nAssorted Vegetable Ratatouille\nSausage & Peppers\, Onions Marinara\nTortellini w/Roasted Tomato Garlic Spinach Alfredo\nMambo Barbecue Pulled Pork\nSweet & Sour Meatballs\nMaple Rubbed BBQ Ribs\nChicken Cacciatore – spicy tomato based sauce braised chicken with peppers\, onions\, mushrooms\n\n 
URL:https://bigbluebbq.com/event/new-york-giants-vs-san-francisco-49ers/
LOCATION:NJ
CATEGORIES:Tailgate Party
ATTACH;FMTTYPE=image/jpeg:https://bigbluebbq.com/wp-content/uploads/2025/01/th-3.jpg
END:VEVENT
END:VCALENDAR