BEGIN:VCALENDAR
VERSION:2.0
PRODID:-//Big Blue BBQ - ECPv6.15.11//NONSGML v1.0//EN
CALSCALE:GREGORIAN
METHOD:PUBLISH
X-ORIGINAL-URL:https://bigbluebbq.com
X-WR-CALDESC:Events for Big Blue BBQ
REFRESH-INTERVAL;VALUE=DURATION:PT1H
X-Robots-Tag:noindex
X-PUBLISHED-TTL:PT1H
BEGIN:VTIMEZONE
TZID:America/New_York
BEGIN:DAYLIGHT
TZOFFSETFROM:-0500
TZOFFSETTO:-0400
TZNAME:EDT
DTSTART:20250309T070000
END:DAYLIGHT
BEGIN:STANDARD
TZOFFSETFROM:-0400
TZOFFSETTO:-0500
TZNAME:EST
DTSTART:20251102T060000
END:STANDARD
BEGIN:DAYLIGHT
TZOFFSETFROM:-0500
TZOFFSETTO:-0400
TZNAME:EDT
DTSTART:20260308T070000
END:DAYLIGHT
BEGIN:STANDARD
TZOFFSETFROM:-0400
TZOFFSETTO:-0500
TZNAME:EST
DTSTART:20261101T060000
END:STANDARD
BEGIN:DAYLIGHT
TZOFFSETFROM:-0500
TZOFFSETTO:-0400
TZNAME:EDT
DTSTART:20270314T070000
END:DAYLIGHT
BEGIN:STANDARD
TZOFFSETFROM:-0400
TZOFFSETTO:-0500
TZNAME:EST
DTSTART:20271107T060000
END:STANDARD
END:VTIMEZONE
BEGIN:VEVENT
DTSTART;TZID=America/New_York:20260822T160000
DTEND;TZID=America/New_York:20260822T200000
DTSTAMP:20260421T164706
CREATED:20250210T185456Z
LAST-MODIFIED:20260106T121202Z
UID:6119-1787414400-1787428800@bigbluebbq.com
SUMMARY:New York Giants vs                     PRE-SEASON
DESCRIPTION:Tailgate Tickets are NON-REFUNDABLE and Presently BigBlueBBQ does not offer Discounts\nTAILGATE PARTY!!\nWHAT IS INCLUDED WITH YOUR DONATION:\nParty passes include all the food and beverage you care to have\, and we always have more than enough!\nThe party is 4 hours\nTailgate Passes do not include parking or game entry \nPole J22 \nMENU: Pre- Season August  2026 \n\nHamburgers\, Hot Dogs\, Vegetable burgers\nCheddar Cheese Macaroni and Cheese\nBigBlueBBQ “BEST EVER” Baked Beans\n Fire Cracker BBQ Glazed Meatballs\nSpicy Pulled Cranberry Chicken\nBarbecue Chicken\nSausage & Peppers Marinara\n\n  \n 
URL:https://bigbluebbq.com/event/new-york-giants-vs-new-england-patriots-pre-season/
LOCATION:Metlife Stadium\, Parking Lot J-22\, East Rutherford\, NJ\, 07073\, United States
CATEGORIES:Tailgate Party
ATTACH;FMTTYPE=image/jpeg:https://bigbluebbq.com/wp-content/uploads/2025/02/new-england-patriots-logo-close-up-0m3uz72utjhzvs3s.jpg
END:VEVENT
END:VCALENDAR